BEGIN:VCALENDAR
VERSION:2.0
PRODID:-//eventon.com NONSGML v1.0//EN
CALSCALE:GREGORIAN
METHOD:PUBLISH
BEGIN:VEVENT
UID:69e4c1978b11b
DTSTAMP:20260419T115047Z
DTSTART:20231022T080000Z
DTEND:20231022T100000Z
LOCATION:Ewangelicki Kościół Opatrzności Bożej
SUMMARY:X FKP: Otwarci na siebie. Nabożeństwo ekumeniczne
DESCRIPTION:Kazanie: bp Jerzy Samiec\,  zwierzchnik Kościoła Ewangelicko-
 Augsburskiego w Polsce. Oprawa muzyczna: Kleiner Chor Lübars\nhttps://ewst
 .pl/wydarzenia/x-fkp-otwarci-na-siebie-nabozenstwo-ekumeniczne
URL:https://ewst.pl/wydarzenia/x-fkp-otwarci-na-siebie-nabozenstwo-ekumeniczne
END:VEVENT
END:VCALENDAR