BEGIN:VCALENDAR
VERSION:2.0
PRODID:-//eventon.com NONSGML v1.0//EN
CALSCALE:GREGORIAN
METHOD:PUBLISH
BEGIN:VEVENT
UID:69e4c630977dd
DTSTAMP:20260419T121024Z
DTSTART:20230922T090000Z
DTEND:20230922T113000Z
LOCATION:EWST Centrum Edukacyjne Świętej Jadwigi 12\,  50-266 Wrocław
SUMMARY:Nie tylko muzea i wykopaliska
DESCRIPTION:Czy wiecie\,  że egipskiej królowej Kleopatrze bliżej jest c
 zasowo do współczesności niż do czasu piramid? Czy zdajecie sobie spraw
 ę\,  że elementy starożytnych opowieści i mitów znajdziemy we wszystki
 ch niemal dziełach literackich i filmowych\,  w scenariuszach gier i w tek
 stach piosenek? W naszym codziennym języku obecnych jest mnóstwo słów i
  zwrotów[..]\nhttps://ewst.pl/wydarzenia/nie-tylko-muzea-i-wykopaliska-mie
 jsce-kultury-starozytnej-we-wspolczesnym-swiecie
URL:https://ewst.pl/wydarzenia/nie-tylko-muzea-i-wykopaliska-miejsce-kultury-starozytnej-we-wspolczesnym-swiecie
END:VEVENT
END:VCALENDAR