BEGIN:VCALENDAR
VERSION:2.0
PRODID:-//eventon.com NONSGML v1.0//EN
CALSCALE:GREGORIAN
METHOD:PUBLISH
BEGIN:VEVENT
UID:69e4c1bd26e41
DTSTAMP:20260419T115125Z
DTSTART:20221028T140000Z
DTEND:20221028T160000Z
LOCATION:https://ewst.pl/matw/zajecia-otwarte-matw-rejestracja/
SUMMARY:Kaukaz i jego kultury. Aspekt geopolityczny
DESCRIPTION:O Kaukazie czÄ™sto mÃ³wi siÄ™ jak o mozaice albo tyglu narodowo
 Å›ci. OkreÅ›lenia te\,  acz trafne\,  nie oddajÄ… dynamiki. Dlatego dookreÅ
 ›lenie wrzÄ…cy czy kotÅ‚ujÄ…cy siÄ™ tygiel moÅ¼e trafniej oddaÄ‡ naturÄ™ te
 go regionu. Dynamiczne zmiany zachodzÄ… na polu\,  ktÃ³re antropolodzy nazw
 Ä… szeroko pojÄ™tÄ… kulturÄ…. KulturÄ… rozumianÄ… jako afirmacjÄ™ Å¼ycia cz
 Å‚owieka. TÄ™ moÅ¼na[..]\nhttps://ewst.pl/wydarzenia/kaukaz-i-jego-kultury-
 aspekt-geopolityczny/var/event_access
URL:https://ewst.pl/wydarzenia/kaukaz-i-jego-kultury-aspekt-geopolityczny/var/event_access
END:VEVENT
END:VCALENDAR