BEGIN:VCALENDAR
VERSION:2.0
PRODID:-//eventon.com NONSGML v1.0//EN
CALSCALE:GREGORIAN
METHOD:PUBLISH
BEGIN:VEVENT
UID:69e4c6406cc15
DTSTAMP:20260419T121040Z
DTSTART:20201210T170000Z
DTEND:20201210T190000Z
LOCATION:https://ewst.pl/studia-licencjackie/zajecia-otwarte-matw-rejestracja/
SUMMARY:Wielcy myśliciele ludzkości: Jan Jakub Rouseau - przewrót kopernikański w spojrzeniu na dziecko
DESCRIPTION:Jak to się stało\,  że Jan Jakub Rousseau\,  który został 
 osierocony przez matkę w 8. dniu życia\,  pozostawiony na pastwę losu pr
 zez ojca w 10. roku życia\,  człowiek\,  który nie zaznał szczęścia r
 odzinnego\,  a pięcioro własnych dzieci oddał do przytułku\,  jest uzna
 wany przez niektórych za najwybitniejszego pedagoga w historii ludzkości?
 [..]\nhttps://ewst.pl/wydarzenia/wielcy-mysliciele-ludzkosci-jan-jakub-rous
 eau-przewrot-kopernikanski-w-spojrzeniu-na-dziecko/var/event_access
URL:https://ewst.pl/wydarzenia/wielcy-mysliciele-ludzkosci-jan-jakub-rouseau-przewrot-kopernikanski-w-spojrzeniu-na-dziecko/var/event_access
END:VEVENT
END:VCALENDAR