BEGIN:VCALENDAR
VERSION:2.0
PRODID:-//eventon.com NONSGML v1.0//EN
CALSCALE:GREGORIAN
METHOD:PUBLISH
BEGIN:VEVENT
UID:69e4f2061e754
DTSTAMP:20260419T151726Z
DTSTART:20201204T170000Z
DTEND:20201204T190000Z
LOCATION:https://ewst.pl/studia-licencjackie/zajecia-otwarte-matw-rejestracja/
SUMMARY:Po co nam utopie i co robić\,  kiedy ich nie ma?
DESCRIPTION:Według definicji utopia (słowo\,  które może nawiązywać d
 o&nbsp; greckiego outopos; gr. ou &#8211; nie\,  topos &#8211; miejsce\,  &
 #8222;nie-miejsce&#8221;\,  miejsce\,  którego nie ma\,  nieistniejące; j
 ak i do słowa eutopia czyli &#8222;dobre miejsce&#8221;) &#8211; projekt l
 ub przedstawienie idealnego ustroju politycznego\,  opierającego się na s
 prawiedliwości\,  solidarności i równości. Potocznie słowo &#8222;utop
 ia&#8221; jest uważana[..]\nhttps://ewst.pl/wydarzenia/po-co-nam-utopie-i-
 co-robic-kiedy-ich-nie-ma/var/event_access
URL:https://ewst.pl/wydarzenia/po-co-nam-utopie-i-co-robic-kiedy-ich-nie-ma/var/event_access
END:VEVENT
END:VCALENDAR