BEGIN:VCALENDAR
VERSION:2.0
PRODID:-//eventon.com NONSGML v1.0//EN
CALSCALE:GREGORIAN
METHOD:PUBLISH
BEGIN:VEVENT
UID:69e4f42f94775
DTSTAMP:20260419T152639Z
DTSTART:20200125T140000Z
DTEND:20200125T150000Z
LOCATION:
SUMMARY:Model Creighton i NaProTechnologia
DESCRIPTION:Samorząd studencki EWST ma zaszczyt zaprosić na spotkanie. &#
 8222;Model Creighton i NaProTechnologia czyli chrześcijańskie metody radz
 enia sobie z darem płodności i problemem niepłodności&#8221;. Będzie j
 e prowadził Krzysztof Strug &#8211; Doradca Życia Rodzinnego przy Fundacj
 i Evangelium Vitae. Spotkanie jest otwarte dla wszystkich chętnych. Zachę
 camy również do zaproszenia swoich znajomych i rodziny.&nbsp;[..]\nhttps:
 //ewst.pl/wydarzenia/model-creighton-i-naprotechnologia
URL:https://ewst.pl/wydarzenia/model-creighton-i-naprotechnologia
END:VEVENT
END:VCALENDAR