BEGIN:VCALENDAR
VERSION:2.0
PRODID:-//eventon.com NONSGML v1.0//EN
CALSCALE:GREGORIAN
METHOD:PUBLISH
BEGIN:VEVENT
UID:69e4c4545cb24
DTSTAMP:20260419T120228Z
DTSTART:20190517T160000Z
DTEND:20190517T180000Z
LOCATION:EWST Centrum Edukacyjne Świętej Jadwigi 12\,  50-266 Wrocław
SUMMARY:Słowa są skrzydłami umysłu  - wprowadzenie do warsztatów dziennikarsko-literackich
DESCRIPTION:Słowa są skrzydłami umysłu &#8211; wprowadzenie do warsztat
 ów dziennikarsko-literackich &nbsp;\nhttps://ewst.pl/wydarzenia/slowa-sa-s
 krzydlami-umyslu-wprowadzenie-do-warsztatow-dziennikarsko-literackich
URL:https://ewst.pl/wydarzenia/slowa-sa-skrzydlami-umyslu-wprowadzenie-do-warsztatow-dziennikarsko-literackich
END:VEVENT
END:VCALENDAR