BEGIN:VCALENDAR
VERSION:2.0
PRODID:-//eventon.com NONSGML v1.0//EN
CALSCALE:GREGORIAN
METHOD:PUBLISH
BEGIN:VEVENT
UID:69e4f0bfb17c0
DTSTAMP:20260419T151159Z
DTSTART:20190215T160000Z
DTEND:20190215T180000Z
LOCATION:EWST Centrum Edukacyjne Świętej Jadwigi 12\,  50-266 Wrocław
SUMMARY:Niepokorny Klub Filmowy: Prosta historia
DESCRIPTION:Film opowiada o sześciotygodniowej odysei Straighta\,  który 
 postanawia pojednać się z chorym bratem. Nie rozmawiał z nim od ponad dz
 iesięciu lat. Ponieważ już dawno odebrano mu prawo jazdy i w dodatku nie
 dowidzi\,  postanawia wyruszyć w drogę jedynym dostępnym mu wehikułem &
 #8211; małym traktorem z przyczepą. Przemierza 300 mil lokalnymi drogami\
 , [..]\nhttps://ewst.pl/wydarzenia/niepokorny-klub-filmowy-prosta-historia
URL:https://ewst.pl/wydarzenia/niepokorny-klub-filmowy-prosta-historia
END:VEVENT
END:VCALENDAR